BEGIN:VCALENDAR
VERSION:2.0
PRODID:-//hacksw/handcal//NONSGML v1.0//EN
CALSCALE:GREGORIAN
BEGIN:VEVENT
LOCATION:Grand Jardin, 34750 Villeneuve-lès-Maguelone
DESCRIPTION:Meeting automobile organisé par Teuf Teuf Club Maguelone, destiné à regrouper les passionnés et les...
DTSTART:20250921
DTEND:20250922
SUMMARY:12e Teuf Teuf Mobile
URL;VALUE=URI:https://www.villeneuvelesmaguelone.fr/evenement/12e-teuf-teuf-mobile/
DTSTAMP:20260419T211037
UID:69e544cda4c5d
END:VEVENT
END:VCALENDAR