BEGIN:VCALENDAR
VERSION:2.0
PRODID:-//hacksw/handcal//NONSGML v1.0//EN
CALSCALE:GREGORIAN
BEGIN:VEVENT
LOCATION:Théâtre municipal Jérôme Savary 34750 Villeneuve-lès-Maguelone
DESCRIPTION:Deux soirées avec EPSEDANSE, sous la direction d&rsquo;Anne-Marie Porras.jeudi 20 novembre &#8211; 19h et vendredi...
DTSTART:20251120
DTEND:20251122
SUMMARY:25 ans de TSV – Deux jours avec Epsedanse
URL;VALUE=URI:https://www.villeneuvelesmaguelone.fr/evenement/25-ans-de-tsv-deux-jours-avec-epsedanse/
DTSTAMP:20260419T193639
UID:69e52ec7087bd
END:VEVENT
END:VCALENDAR