BEGIN:VCALENDAR
VERSION:2.0
PRODID:-//hacksw/handcal//NONSGML v1.0//EN
CALSCALE:GREGORIAN
BEGIN:VEVENT
LOCATION:235 Boulevard des Moures 34750 Villeneuve-lès-Maguelone
DESCRIPTION:A l’occasion des 50 ans de l’Estagnol, l’équipe de la Réserve vous propose de venir...
DTSTART:20250916T180000
DTEND:20250917
SUMMARY:50 ans de l’Estagnol : réunion publique sur la réserve
URL;VALUE=URI:https://www.villeneuvelesmaguelone.fr/evenement/50-ans-de-lestagnol-reunion-publique-sur-la-reserve/
DTSTAMP:20260419T223802
UID:69e5594a3936f
END:VEVENT
END:VCALENDAR