BEGIN:VCALENDAR
VERSION:2.0
PRODID:-//hacksw/handcal//NONSGML v1.0//EN
CALSCALE:GREGORIAN
BEGIN:VEVENT
LOCATION:
DESCRIPTION:Venez célébrer la Fête Locale de Villeneuve-lès-Maguelone du 10 au 14 juillet 2025 ! La...
DTSTART:20250710
DTEND:20250715
SUMMARY:Fête locale 2025
URL;VALUE=URI:https://www.villeneuvelesmaguelone.fr/evenement/__trashed/
DTSTAMP:20260420T065014
UID:69e5cca6d75a8
END:VEVENT
END:VCALENDAR