BEGIN:VCALENDAR
VERSION:2.0
PRODID:-//hacksw/handcal//NONSGML v1.0//EN
CALSCALE:GREGORIAN
BEGIN:VEVENT
LOCATION:Théâtre municipal Jérôme Savary, 34750 Villeneuve-lès-Maguelone
DESCRIPTION:ANPU (Agence Nationale de Psychanalyse Urbaine) Ce rendez-vous s&rsquo;inscrit dans le cadre de L&rsquo;événement 25...
DTSTART:20251001T193000
DTEND:20251002
SUMMARY:À l’eau, la Terre ? – Villeneuve-lès-Maguelone sur le divan
URL;VALUE=URI:https://www.villeneuvelesmaguelone.fr/evenement/a-leau-la-terre-villeneuve-les-maguelone-sur-le-divan/
DTSTAMP:20260420T013329
UID:69e582699f173
END:VEVENT
END:VCALENDAR