BEGIN:VCALENDAR
VERSION:2.0
PRODID:-//hacksw/handcal//NONSGML v1.0//EN
CALSCALE:GREGORIAN
BEGIN:VEVENT
LOCATION:235 Boulevard des Moures 34750 Villeneuve-lès-Maguelone
DESCRIPTION:La Ville de Villeneuve-lès-Maguelone a le plaisir de convier les nouveaux Villeneuvois à une soirée...
DTSTART:20260304T183000
DTEND:20260305
SUMMARY:Soirée d’accueil des nouveaux arrivants
URL;VALUE=URI:https://www.villeneuvelesmaguelone.fr/evenement/accueil-des-nouveaux-arrivants-3/
DTSTAMP:20260419T145421
UID:69e4ec9dcd049
END:VEVENT
END:VCALENDAR