BEGIN:VCALENDAR
VERSION:2.0
PRODID:-//hacksw/handcal//NONSGML v1.0//EN
CALSCALE:GREGORIAN
BEGIN:VEVENT
LOCATION:
DESCRIPTION:En avril 2024 un point de réemploi a été installé dans la déchèterie de Villeneuve-lès-Maguelone....
DTSTART:20251003T090000
DTEND:20251003T120000
SUMMARY:Réemploi : les bonnes pratiques à découvrir
URL;VALUE=URI:https://www.villeneuvelesmaguelone.fr/evenement/animation-reemploi-1-2-2/
DTSTAMP:20260420T001013
UID:69e56ee5227e1
END:VEVENT
END:VCALENDAR