BEGIN:VCALENDAR
VERSION:2.0
PRODID:-//hacksw/handcal//NONSGML v1.0//EN
CALSCALE:GREGORIAN
BEGIN:VEVENT
LOCATION:
DESCRIPTION:En avril 2024 un point de réemploi installé dans la déchèterie de Villeneuve-lès-Maguelone, a été...
DTSTART:20250919T090000
DTEND:20250919T120000
SUMMARY:Point de réemploi
URL;VALUE=URI:https://www.villeneuvelesmaguelone.fr/evenement/animation-reemploi-1-2/
DTSTAMP:20260420T000459
UID:69e56dabc144a
END:VEVENT
END:VCALENDAR