BEGIN:VCALENDAR
VERSION:2.0
PRODID:-//hacksw/handcal//NONSGML v1.0//EN
CALSCALE:GREGORIAN
BEGIN:VEVENT
LOCATION:
DESCRIPTION:En avril 2024 un point de réemploi installé dans al déchèterie de Villeneuve-lès-Maguelone, a été...
DTSTART:20250905T090000
DTEND:20250905T120000
SUMMARY:Point de réemploi
URL;VALUE=URI:https://www.villeneuvelesmaguelone.fr/evenement/animation-reemploi-1/
DTSTAMP:20260420T000858
UID:69e56e9aad5cb
END:VEVENT
END:VCALENDAR