BEGIN:VCALENDAR
VERSION:2.0
PRODID:-//hacksw/handcal//NONSGML v1.0//EN
CALSCALE:GREGORIAN
BEGIN:VEVENT
LOCATION:
DESCRIPTION:En avril 2024 un point de réemploi installé dans al déchèterie de Villeneuve-lès-Maguelone, a été...
DTSTART:20251107T090000
DTEND:20251107T120000
SUMMARY:Point de réemploi
URL;VALUE=URI:https://www.villeneuvelesmaguelone.fr/evenement/animation-reemploi-5-2/
DTSTAMP:20260419T223427
UID:69e558731a790
END:VEVENT
END:VCALENDAR