BEGIN:VCALENDAR
VERSION:2.0
PRODID:-//hacksw/handcal//NONSGML v1.0//EN
CALSCALE:GREGORIAN
BEGIN:VEVENT
LOCATION:235 Boulevard des Moures 34750 Villeneuve-lès-Maguelone
DESCRIPTION:Dès 7 ans. Vous aimez plier, découper, coller, colorier, dessiner, peindre… Papier, carton, tissu …...
DTSTART:20260304T143000
DTEND:20260304T160000
SUMMARY:Atelier créatif
URL;VALUE=URI:https://www.villeneuvelesmaguelone.fr/evenement/atelier-creatif-2/
DTSTAMP:20260419T163421
UID:69e5040d5bc3f
END:VEVENT
END:VCALENDAR