BEGIN:VCALENDAR
VERSION:2.0
PRODID:-//hacksw/handcal//NONSGML v1.0//EN
CALSCALE:GREGORIAN
BEGIN:VEVENT
LOCATION:235 Boulevard des Moures 34750 Villeneuve-lès-Maguelone
DESCRIPTION:Donnez une seconde vie à vos chaussettes orphelines en créant une jolie déco de Noël...
DTSTART:20251217T170000
DTEND:20251217T180000
SUMMARY:Atelier créatif : fabrique ton bonhomme de neige… avec une chaussette !
URL;VALUE=URI:https://www.villeneuvelesmaguelone.fr/evenement/atelier-creatif-fabrique-ton-bonhomme-de-neige-avec-une-chaussette/
DTSTAMP:20260419T180443
UID:69e5193bc7aaf
END:VEVENT
END:VCALENDAR