BEGIN:VCALENDAR
VERSION:2.0
PRODID:-//hacksw/handcal//NONSGML v1.0//EN
CALSCALE:GREGORIAN
BEGIN:VEVENT
LOCATION:
DESCRIPTION:NOUVEAU ! Un atelier danse occitane pour les plus de 60 ans avec le Centre...
DTSTART:20250520
DTEND:20250520T113000
SUMMARY:Atelier danse occitane
URL;VALUE=URI:https://www.villeneuvelesmaguelone.fr/evenement/atelier-danse-occitane/
DTSTAMP:20260420T095610
UID:69e5f83a27285
END:VEVENT
END:VCALENDAR