BEGIN:VCALENDAR
VERSION:2.0
PRODID:-//hacksw/handcal//NONSGML v1.0//EN
CALSCALE:GREGORIAN
BEGIN:VEVENT
LOCATION:
DESCRIPTION:Atelier Yoga dynamique à 4 mains avec Lola et Laura Samedi 25 Octobre 10h à...
DTSTART:20251025T100000
DTEND:20251025T120000
SUMMARY:Atelier de YOGA : Cultiver l’enracinement et l’introspection
URL;VALUE=URI:https://www.villeneuvelesmaguelone.fr/evenement/atelier-de-yoga-cultiver-lenracinement-et-lintrospection/
DTSTAMP:20260419T210658
UID:69e543f291bf5
END:VEVENT
END:VCALENDAR