BEGIN:VCALENDAR
VERSION:2.0
PRODID:-//hacksw/handcal//NONSGML v1.0//EN
CALSCALE:GREGORIAN
BEGIN:VEVENT
LOCATION:Chemin de la Rivière 34750 Villeneuve-lès-Maguelone
DESCRIPTION:Dans le cadre de l’événement national Tous au compost, Montpellier Méditerranée Métropole propose un atelier...
DTSTART:20250519T133000
DTEND:20250519T160000
SUMMARY:Atelier d’éco jardinage
URL;VALUE=URI:https://www.villeneuvelesmaguelone.fr/evenement/atelier-deco-jardinage/
DTSTAMP:20260420T112443
UID:69e60cfb8336d
END:VEVENT
END:VCALENDAR