BEGIN:VCALENDAR
VERSION:2.0
PRODID:-//hacksw/handcal//NONSGML v1.0//EN
CALSCALE:GREGORIAN
BEGIN:VEVENT
LOCATION:101 Boulevard des Ecoles 34750 Villeneuve-lès-Maguelone
DESCRIPTION:Le Département propose un atelier initiation au massage bébé avec l&rsquo;Association Française du Massage pour...
DTSTART:20250521
DTEND:20250522
SUMMARY:Atelier initiation au massage bébé
URL;VALUE=URI:https://www.villeneuvelesmaguelone.fr/evenement/atelier-initiation-au-massage-bebe/
DTSTAMP:20260420T112706
UID:69e60d8a14fc8
END:VEVENT
END:VCALENDAR