BEGIN:VCALENDAR
VERSION:2.0
PRODID:-//hacksw/handcal//NONSGML v1.0//EN
CALSCALE:GREGORIAN
BEGIN:VEVENT
LOCATION:Centre culturel, 235 Boulevard des Moures 34750 Villeneuve-lès-Maguelone
DESCRIPTION:L&rsquo;association Repair café Montpellier, en partenariat avec le Conseil municipal des Jeunes de Villeneuve-lès-Maguelone, vous...
DTSTART:20250510T140000
DTEND:20250510T180000
SUMMARY:Atelier repair café
URL;VALUE=URI:https://www.villeneuvelesmaguelone.fr/evenement/atelier-repair-cafe/
DTSTAMP:20260420T100011
UID:69e5f92b38ab2
END:VEVENT
END:VCALENDAR