BEGIN:VCALENDAR
VERSION:2.0
PRODID:-//hacksw/handcal//NONSGML v1.0//EN
CALSCALE:GREGORIAN
BEGIN:VEVENT
LOCATION:Impasse des Sycomores 34750 Villeneuve-lès-Maguelone
DESCRIPTION:Le CCAS de Villeneuve accueille le chanteur Joanda pour une série de 4 ateliers de...
DTSTART:20250318T100000
DTEND:20250318T120000
SUMMARY:Ateliers de chant occitan
URL;VALUE=URI:https://www.villeneuvelesmaguelone.fr/evenement/ateliers-de-chant-occitan-2-2/
DTSTAMP:20260420T172905
UID:69e66261eb2e5
END:VEVENT
END:VCALENDAR