BEGIN:VCALENDAR
VERSION:2.0
PRODID:-//hacksw/handcal//NONSGML v1.0//EN
CALSCALE:GREGORIAN
BEGIN:VEVENT
LOCATION:235 Boulevard des Moures 34750 Villeneuve-lès-Maguelone
DESCRIPTION:La projection en avant-première du court-métrage « Plage sauvage – partager et protéger », aura lieu le...
DTSTART:20260121T190000
DTEND:20260122
SUMMARY:Avant-première du court-métrage « Plage sauvage – partager et protéger »
URL;VALUE=URI:https://www.villeneuvelesmaguelone.fr/evenement/avant-premiere-du-court-metrage-plage-sauvage-partager-et-proteger/
DTSTAMP:20260419T163301
UID:69e503bd312b7
END:VEVENT
END:VCALENDAR