BEGIN:VCALENDAR
VERSION:2.0
PRODID:-//hacksw/handcal//NONSGML v1.0//EN
CALSCALE:GREGORIAN
BEGIN:VEVENT
LOCATION:
DESCRIPTION:GOODBYE JULIA de Mohamed Kordofani&nbsp;2023 – 2h Une étrange amitié lie une riche soudanaise musulmane...
DTSTART:20251209T190000
DTEND:20251210
SUMMARY:Avis de ciné ! – « Goodbye Julia »
URL;VALUE=URI:https://www.villeneuvelesmaguelone.fr/evenement/avis-de-cine-2/
DTSTAMP:20260420T050039
UID:69e5b2f7e8b45
END:VEVENT
END:VCALENDAR