BEGIN:VCALENDAR
VERSION:2.0
PRODID:-//hacksw/handcal//NONSGML v1.0//EN
CALSCALE:GREGORIAN
BEGIN:VEVENT
LOCATION:Théâtre municipal Jérôme Savary 34750 Villeneuve-lès-Maguelone
DESCRIPTION:&nbsp;PRESQUE LIBRES d’Olivier Bertrand2024 – 52 min Dans la Montagne noire, une ferme accueille pendant...
DTSTART:20260217T190000
DTEND:20260218
SUMMARY:Avis de ciné ! – « Presque libres »
URL;VALUE=URI:https://www.villeneuvelesmaguelone.fr/evenement/avis-de-cine-4/
DTSTAMP:20260420T031840
UID:69e59b1064bab
END:VEVENT
END:VCALENDAR