BEGIN:VCALENDAR
VERSION:2.0
PRODID:-//hacksw/handcal//NONSGML v1.0//EN
CALSCALE:GREGORIAN
BEGIN:VEVENT
LOCATION:Théâtre municipal Jérôme Savary 34750 Villeneuve-lès-Maguelone
DESCRIPTION:JOSEP d’Aurel ( Sélection Officielle Cannes 2020 )2020 &#8211; 1h11 Février 1939. Submergé par le...
DTSTART:20260120T190000
DTEND:20260121
SUMMARY:Avis de ciné ! – « JOSEP »
URL;VALUE=URI:https://www.villeneuvelesmaguelone.fr/evenement/avis-de-cine-5/
DTSTAMP:20260420T013538
UID:69e582ea4cd3e
END:VEVENT
END:VCALENDAR