BEGIN:VCALENDAR
VERSION:2.0
PRODID:-//hacksw/handcal//NONSGML v1.0//EN
CALSCALE:GREGORIAN
BEGIN:VEVENT
LOCATION:Théâtre municipal Jérôme Savary 34750 Villeneuve-lès-Maguelone
DESCRIPTION:Après une première année réussie le théâtre Jérôme Savary et la municipalité de Villeneuve lès...
DTSTART:20251007T190000
DTEND:20251008
SUMMARY:Avis de ciné ! – « Flow, le chat qui n’avait plus peur de l’eau »
URL;VALUE=URI:https://www.villeneuvelesmaguelone.fr/evenement/avis-de-cine/
DTSTAMP:20260420T013510
UID:69e582cec8336
END:VEVENT
END:VCALENDAR