BEGIN:VCALENDAR
VERSION:2.0
PRODID:-//hacksw/handcal//NONSGML v1.0//EN
CALSCALE:GREGORIAN
BEGIN:VEVENT
LOCATION:235 Boulevard des Moures 34750 Villeneuve-lès-Maguelone
DESCRIPTION:De 9 mois à 3 ans. Sur inscription, sur place ou au 04 67 69 97...
DTSTART:20260204T103000
DTEND:20260205
SUMMARY:Bébés joueurs
URL;VALUE=URI:https://www.villeneuvelesmaguelone.fr/evenement/bebes-joueurs-2/
DTSTAMP:20260419T163618
UID:69e504829cc8e
END:VEVENT
END:VCALENDAR