BEGIN:VCALENDAR
VERSION:2.0
PRODID:-//hacksw/handcal//NONSGML v1.0//EN
CALSCALE:GREGORIAN
BEGIN:VEVENT
LOCATION:235 Boulevard des Moures 34750 Villeneuve-lès-Maguelone
DESCRIPTION:De 3 mois à 3 ans. Inscription sur place ou au 04 67 69 97 17....
DTSTART:20260311T103000
DTEND:20260312
SUMMARY:Bébés lecteurs
URL;VALUE=URI:https://www.villeneuvelesmaguelone.fr/evenement/bebes-lecteurs-2/
DTSTAMP:20260419T163103
UID:69e5034706c6e
END:VEVENT
END:VCALENDAR