BEGIN:VCALENDAR
VERSION:2.0
PRODID:-//hacksw/handcal//NONSGML v1.0//EN
CALSCALE:GREGORIAN
BEGIN:VEVENT
LOCATION:Boulevard des Moures 34750 Villeneuve-lès-Maguelone
DESCRIPTION:De 3 mois à 3 ans. Inscription sur place ou au 04 67 69 97 17....
DTSTART:20260114T103000
DTEND:20260115
SUMMARY:Bébés lecteurs
URL;VALUE=URI:https://www.villeneuvelesmaguelone.fr/evenement/bebes-lecteurs/
DTSTAMP:20260419T180247
UID:69e518c7dc330
END:VEVENT
END:VCALENDAR