BEGIN:VCALENDAR
VERSION:2.0
PRODID:-//hacksw/handcal//NONSGML v1.0//EN
CALSCALE:GREGORIAN
BEGIN:VEVENT
LOCATION:Impasse des Sycomores 34750 Villeneuve-lès-Maguelone
DESCRIPTION:Le Secours populaire de Villeneuve-lès-Maguelone vous donne rendez-vous le lundi 4 août, de 18h à...
DTSTART:20250804T180000
DTEND:20250804T210000
SUMMARY:Braderie du Secours Populaire
URL;VALUE=URI:https://www.villeneuvelesmaguelone.fr/evenement/braderie-du-secours-populaire-2/
DTSTAMP:20260420T050125
UID:69e5b325e5fe2
END:VEVENT
END:VCALENDAR