BEGIN:VCALENDAR
VERSION:2.0
PRODID:-//hacksw/handcal//NONSGML v1.0//EN
CALSCALE:GREGORIAN
BEGIN:VEVENT
LOCATION:Impasse des Sycomores 34750 Villeneuve-lès-Maguelone
DESCRIPTION:Le Secours populaire de Villeneuve-lès-Maguelone vous donne rendez-vous samedi 27 septembre, de 10h à 18h,...
DTSTART:20250927T100000
DTEND:20250927T180000
SUMMARY:Braderie du Secours Populaire
URL;VALUE=URI:https://www.villeneuvelesmaguelone.fr/evenement/braderie-du-secours-populaire-27-09/
DTSTAMP:20260419T210825
UID:69e54449bc453
END:VEVENT
END:VCALENDAR