BEGIN:VCALENDAR
VERSION:2.0
PRODID:-//hacksw/handcal//NONSGML v1.0//EN
CALSCALE:GREGORIAN
BEGIN:VEVENT
LOCATION:Impasse des Sycomores 34750 Villeneuve-lès-Maguelone
DESCRIPTION:Le Secours populaire de Villeneuve-lès-Maguelone vous donne rendez-vous le lundi 21 juillet, de 18h à...
DTSTART:20250721T180000
DTEND:20250721T210000
SUMMARY:Braderie du Secours Populaire
URL;VALUE=URI:https://www.villeneuvelesmaguelone.fr/evenement/braderie-du-secours-populaire/
DTSTAMP:20260420T050742
UID:69e5b49e0f9c7
END:VEVENT
END:VCALENDAR