BEGIN:VCALENDAR
VERSION:2.0
PRODID:-//hacksw/handcal//NONSGML v1.0//EN
CALSCALE:GREGORIAN
BEGIN:VEVENT
LOCATION:Impasse des Sycomores 34750 Villeneuve-lès-Maguelone
DESCRIPTION:Les bénévoles du Secours Populaire organisent une braderie solidaire et vous donne rendez-vous le samedi...
DTSTART:20250426T100000
DTEND:20250426T180000
SUMMARY:Braderie solidaire de printemps du Secours Populaire
URL;VALUE=URI:https://www.villeneuvelesmaguelone.fr/evenement/braderie-solidaire-de-printemps-du-secours-populaire/
DTSTAMP:20260420T142333
UID:69e636e5f1cca
END:VEVENT
END:VCALENDAR