BEGIN:VCALENDAR
VERSION:2.0
PRODID:-//hacksw/handcal//NONSGML v1.0//EN
CALSCALE:GREGORIAN
BEGIN:VEVENT
LOCATION:
DESCRIPTION:L&rsquo;association des employés municipaux organise son Bric à Brac de l&rsquo;automne (vide grenier) dimanche 16...
DTSTART:20251116T080000
DTEND:20251116T160000
SUMMARY:Bric à Brac de l’automne des employés municipaux
URL;VALUE=URI:https://www.villeneuvelesmaguelone.fr/evenement/bric-a-brac-de-lautomne-des-employes-municipaux/
DTSTAMP:20260419T192924
UID:69e52d1417a16
END:VEVENT
END:VCALENDAR