BEGIN:VCALENDAR
VERSION:2.0
PRODID:-//hacksw/handcal//NONSGML v1.0//EN
CALSCALE:GREGORIAN
BEGIN:VEVENT
LOCATION:235 Boulevard des Moures 34750 Villeneuve-lès-Maguelone
DESCRIPTION:L’association des employés municipaux organise son traditionnel Bric à Brac de printemps : dimanche 6...
DTSTART:20250406T080000
DTEND:20250406T160000
SUMMARY:Bric à Brac de printemps
URL;VALUE=URI:https://www.villeneuvelesmaguelone.fr/evenement/bric-a-brac-de-printemps/
DTSTAMP:20260420T155755
UID:69e64d03639d6
END:VEVENT
END:VCALENDAR