BEGIN:VCALENDAR
VERSION:2.0
PRODID:-//hacksw/handcal//NONSGML v1.0//EN
CALSCALE:GREGORIAN
BEGIN:VEVENT
LOCATION:102 Grand Rue 34750 Villeneuve-lès-Maguelone
DESCRIPTION:[ 𝖠𝗎𝗍𝗈𝗎𝗋 𝖽𝗎 𝗌𝗉𝖾𝖼𝗍𝖺𝖼𝗅𝖾 Et tout est rentré dans le désordre de Julie Benegmos &amp;...
DTSTART:20251105T190000
DTEND:20251106
SUMMARY:Café mortel
URL;VALUE=URI:https://www.villeneuvelesmaguelone.fr/evenement/cafe-mortel/
DTSTAMP:20260419T193156
UID:69e52dac3f4c5
END:VEVENT
END:VCALENDAR