BEGIN:VCALENDAR
VERSION:2.0
PRODID:-//hacksw/handcal//NONSGML v1.0//EN
CALSCALE:GREGORIAN
BEGIN:VEVENT
LOCATION:Domaine du Chapitre
DESCRIPTION:❁ Hors les mursCompagnie La Vie Grande &#8211; Agathe CharnetThéâtre &#8211; 1h30 « Vous savez,...
DTSTART:20250328T200000
DTEND:20250329
SUMMARY:Ceci est mon corps (nomade)
URL;VALUE=URI:https://www.villeneuvelesmaguelone.fr/evenement/ceci-est-mon-corps-nomade/
DTSTAMP:20260420T203733
UID:69e68e8ddf0ef
END:VEVENT
END:VCALENDAR