BEGIN:VCALENDAR
VERSION:2.0
PRODID:-//hacksw/handcal//NONSGML v1.0//EN
CALSCALE:GREGORIAN
BEGIN:VEVENT
LOCATION:Rue des Penitents
DESCRIPTION:❁ Hors les mursCompagnie Chagall sans M – Claire EngelThéâtre &#8211; 55mn Une femme regarde...
DTSTART:20250330T110000
DTEND:20250331
SUMMARY:Ceci est mon corps
URL;VALUE=URI:https://www.villeneuvelesmaguelone.fr/evenement/ceci-est-mon-corps/
DTSTAMP:20260420T204359
UID:69e6900f92a98
END:VEVENT
END:VCALENDAR