BEGIN:VCALENDAR
VERSION:2.0
PRODID:-//hacksw/handcal//NONSGML v1.0//EN
CALSCALE:GREGORIAN
BEGIN:VEVENT
LOCATION:Impasse des Sycomores 34750 Villeneuve-lès-Maguelone
DESCRIPTION:Les Anciens Ateliers Municipaux porteront bientôt le nom de Pierre Maguelon. Cet artiste cher à...
DTSTART:20250614T110000
DTEND:20250615
SUMMARY:Cérémonie de dénomination de l’espace socio culturel Pierre Maguelon
URL;VALUE=URI:https://www.villeneuvelesmaguelone.fr/evenement/ceremonie-de-denomination-de-lespace-socio-culturel-pierre-maguelon/
DTSTAMP:20260420T083059
UID:69e5e44343379
END:VEVENT
END:VCALENDAR