BEGIN:VCALENDAR
VERSION:2.0
PRODID:-//hacksw/handcal//NONSGML v1.0//EN
CALSCALE:GREGORIAN
BEGIN:VEVENT
LOCATION:Place de la Porte Saint Laurent 34750 Villeneuve-lès-Maguelone
DESCRIPTION:Le Conseil municipal de Villeneuve-lès-Maguelone a décidé de rendre hommage à Gérard Bouisson, maire de...
DTSTART:20250710T190000
DTEND:20250711
SUMMARY:Cérémonie de dénomination du Parvis Gérard Bouisson
URL;VALUE=URI:https://www.villeneuvelesmaguelone.fr/evenement/ceremonie-de-denomination-du-parvis-gerard-bouisson/
DTSTAMP:20260420T051011
UID:69e5b533134e9
END:VEVENT
END:VCALENDAR