BEGIN:VCALENDAR
VERSION:2.0
PRODID:-//hacksw/handcal//NONSGML v1.0//EN
CALSCALE:GREGORIAN
BEGIN:VEVENT
LOCATION:Place des Héros 34750 Villeneuve-lès-Maguelone
DESCRIPTION:La Journée nationale de la Résistance correspond à la date de la première réunion du...
DTSTART:20250527T110000
DTEND:20250528
SUMMARY:Cérémonie de la journée nationale de la Résistance
URL;VALUE=URI:https://www.villeneuvelesmaguelone.fr/evenement/ceremonie-de-la-journee-nationale-de-la-resistance/
DTSTAMP:20260420T100042
UID:69e5f94a8ae48
END:VEVENT
END:VCALENDAR