BEGIN:VCALENDAR
VERSION:2.0
PRODID:-//hacksw/handcal//NONSGML v1.0//EN
CALSCALE:GREGORIAN
BEGIN:VEVENT
LOCATION:
DESCRIPTION:Cette journée a été instituée en reconnaissance des sacrifices consentis et des sévices subis par...
DTSTART:20250925T093000
DTEND:20250926
SUMMARY:Cérémonie d’hommage aux harkis
URL;VALUE=URI:https://www.villeneuvelesmaguelone.fr/evenement/ceremonie-dhommage-aux-harkis-2/
DTSTAMP:20260419T223550
UID:69e558c64ea2c
END:VEVENT
END:VCALENDAR