BEGIN:VCALENDAR
VERSION:2.0
PRODID:-//hacksw/handcal//NONSGML v1.0//EN
CALSCALE:GREGORIAN
BEGIN:VEVENT
LOCATION:Ecole Bouissinet 34750 Villeneuve-lès-Maguelone
DESCRIPTION:En partenariat avec Montpellier Méditerranée Métropole, le festival Cinéma sous les étoiles s&rsquo;installe dans la...
DTSTART:20250827T190000
DTEND:20250828
SUMMARY:Cinéma sous les étoiles
URL;VALUE=URI:https://www.villeneuvelesmaguelone.fr/evenement/cine-etoiles-2025/
DTSTAMP:20260420T095440
UID:69e5f7e095f7f
END:VEVENT
END:VCALENDAR