BEGIN:VCALENDAR
VERSION:2.0
PRODID:-//hacksw/handcal//NONSGML v1.0//EN
CALSCALE:GREGORIAN
BEGIN:VEVENT
LOCATION:8 Rue des Colibris 34750 Villeneuve-lès-Maguelone
DESCRIPTION:𝗗𝗼𝗻 𝗱𝗲 𝘀𝗮𝗻𝗴   Une collecte est organisée à Villeneuve-lès-Maguelone :   Vendredi 11 juillet,...
DTSTART:20250711T143000
DTEND:20250711T190000
SUMMARY:Collecte de sang
URL;VALUE=URI:https://www.villeneuvelesmaguelone.fr/evenement/collecte-de-sang-11-07/
DTSTAMP:20260420T050842
UID:69e5b4da7463b
END:VEVENT
END:VCALENDAR