BEGIN:VCALENDAR
VERSION:2.0
PRODID:-//hacksw/handcal//NONSGML v1.0//EN
CALSCALE:GREGORIAN
BEGIN:VEVENT
LOCATION:8 Rue des Colibris 34750 Villeneuve-lès-Maguelone
DESCRIPTION:𝗗𝗼𝗻 𝗱𝗲 𝘀𝗮𝗻𝗴 Une collecte est organisée à Villeneuve-lès-Maguelone : 📍MAISON DES ASSOCIATIONS 📆 Vendredi 21...
DTSTART:20251121T143000
DTEND:20251121T190000
SUMMARY:Collecte de sang
URL;VALUE=URI:https://www.villeneuvelesmaguelone.fr/evenement/collecte-de-sang-19-09-2/
DTSTAMP:20260419T192918
UID:69e52d0ecce1b
END:VEVENT
END:VCALENDAR