BEGIN:VCALENDAR
VERSION:2.0
PRODID:-//hacksw/handcal//NONSGML v1.0//EN
CALSCALE:GREGORIAN
BEGIN:VEVENT
LOCATION:8 Rue des Colibris 34750 Villeneuve-lès-Maguelone
DESCRIPTION:𝗗𝗼𝗻 𝗱𝗲 𝘀𝗮𝗻𝗴 Une collecte est organisée à Villeneuve-lès-Maguelone : Vendredi 11 avril, de 14h30...
DTSTART:20250411T143000
DTEND:20250411T190000
SUMMARY:Collecte de sang
URL;VALUE=URI:https://www.villeneuvelesmaguelone.fr/evenement/collecte-de-sang-5-2/
DTSTAMP:20260420T160412
UID:69e64e7c134f0
END:VEVENT
END:VCALENDAR