BEGIN:VCALENDAR
VERSION:2.0
PRODID:-//hacksw/handcal//NONSGML v1.0//EN
CALSCALE:GREGORIAN
BEGIN:VEVENT
LOCATION:Rue du 19 Mars 1962 34750 Villeneuve-lès-Maguelone
DESCRIPTION:Cérémonie du souvenir et de recueillement à la mémoire des victimes civiles et militaires de...
DTSTART:20250319T103000
DTEND:20250320
SUMMARY:Commémoration du 19 mars 1962
URL;VALUE=URI:https://www.villeneuvelesmaguelone.fr/evenement/commemoration-du-19-mars-1962-2/
DTSTAMP:20260420T173805
UID:69e6647dbbe92
END:VEVENT
END:VCALENDAR