BEGIN:VCALENDAR
VERSION:2.0
PRODID:-//hacksw/handcal//NONSGML v1.0//EN
CALSCALE:GREGORIAN
BEGIN:VEVENT
LOCATION:
DESCRIPTION:Cette commémoration, organisée conjointement par les villes de Fabrègues et de Villeneuve-lès-Maguelone, honore la mémoire...
DTSTART:20250427T110000
DTEND:20250428
SUMMARY:Commémoration en mémoire des victimes et des héros de la déportation
URL;VALUE=URI:https://www.villeneuvelesmaguelone.fr/evenement/commemoration-du-27-avril/
DTSTAMP:20260420T142620
UID:69e6378cbccdc
END:VEVENT
END:VCALENDAR