BEGIN:VCALENDAR
VERSION:2.0
PRODID:-//hacksw/handcal//NONSGML v1.0//EN
CALSCALE:GREGORIAN
BEGIN:VEVENT
LOCATION:
DESCRIPTION:Le 8 mai 1945 marque la fin de la Seconde Guerre mondiale en Europe, avec...
DTSTART:20250508T093000
DTEND:20250509
SUMMARY:Commémoration du 8 mai 1945
URL;VALUE=URI:https://www.villeneuvelesmaguelone.fr/evenement/commemoration-du-8-mai-1945/
DTSTAMP:20260420T141904
UID:69e635d8f021e
END:VEVENT
END:VCALENDAR