BEGIN:VCALENDAR
VERSION:2.0
PRODID:-//hacksw/handcal//NONSGML v1.0//EN
CALSCALE:GREGORIAN
BEGIN:VEVENT
LOCATION:
DESCRIPTION:La chorale L’Amitié villeneuvoise vous invite à son concert de Noël, le dimanche 21 décembre...
DTSTART:20251221T170000
DTEND:20251222
SUMMARY:Concert de Noël de L’Amitié villeneuvoise
URL;VALUE=URI:https://www.villeneuvelesmaguelone.fr/evenement/concert-de-noel-de-lamitie-villeneuvoise/
DTSTAMP:20260419T193254
UID:69e52de6811dc
END:VEVENT
END:VCALENDAR