BEGIN:VCALENDAR
VERSION:2.0
PRODID:-//hacksw/handcal//NONSGML v1.0//EN
CALSCALE:GREGORIAN
BEGIN:VEVENT
LOCATION:235 Boulevard des Moures 34750 Villeneuve-lès-Maguelone
DESCRIPTION:Le Conseil Municipal se réunira le lundi 13 octobre 2025 à 18h au Centre culturel...
DTSTART:20251013T180000
DTEND:20251014
SUMMARY:Conseil Municipal
URL;VALUE=URI:https://www.villeneuvelesmaguelone.fr/evenement/conseil-municipal-13-10/
DTSTAMP:20260419T210944
UID:69e5449854727
END:VEVENT
END:VCALENDAR