BEGIN:VCALENDAR
VERSION:2.0
PRODID:-//hacksw/handcal//NONSGML v1.0//EN
CALSCALE:GREGORIAN
BEGIN:VEVENT
LOCATION:235 Boulevard des Moures 34750 Villeneuve-lès-Maguelone
DESCRIPTION:Le Conseil Municipal se réunira le lundi 16 février à 18h au centre culturel –...
DTSTART:20260216T180000
DTEND:20260217
SUMMARY:Conseil Municipal
URL;VALUE=URI:https://www.villeneuvelesmaguelone.fr/evenement/conseil-municipal-2-2/
DTSTAMP:20260419T144510
UID:69e4ea7646239
END:VEVENT
END:VCALENDAR