BEGIN:VCALENDAR
VERSION:2.0
PRODID:-//hacksw/handcal//NONSGML v1.0//EN
CALSCALE:GREGORIAN
BEGIN:VEVENT
LOCATION:235 Boulevard des Moures 34750 Villeneuve-lès-Maguelone
DESCRIPTION:Le Conseil Municipal se réunira le lundi 15 décembre à 18h au centre culturel –...
DTSTART:20251215T180000
DTEND:20251216
SUMMARY:Conseil Municipal
URL;VALUE=URI:https://www.villeneuvelesmaguelone.fr/evenement/conseil-municipal-2/
DTSTAMP:20260419T180530
UID:69e5196aacdf4
END:VEVENT
END:VCALENDAR